BEGIN:VCALENDAR
VERSION:2.0
PRODID:-//ZenWoods Golf Club - Inverness, FL - ECPv6.15.20//NONSGML v1.0//EN
CALSCALE:GREGORIAN
METHOD:PUBLISH
X-WR-CALNAME:ZenWoods Golf Club - Inverness, FL
X-ORIGINAL-URL:https://zenwoodsgolfclub.com
X-WR-CALDESC:Events for ZenWoods Golf Club - Inverness, FL
REFRESH-INTERVAL;VALUE=DURATION:PT1H
X-Robots-Tag:noindex
X-PUBLISHED-TTL:PT1H
BEGIN:VTIMEZONE
TZID:UTC
BEGIN:STANDARD
TZOFFSETFROM:+0000
TZOFFSETTO:+0000
TZNAME:UTC
DTSTART:20250101T000000
END:STANDARD
END:VTIMEZONE
BEGIN:VEVENT
DTSTART;TZID=UTC:20260411T200000
DTEND;TZID=UTC:20260411T235959
DTSTAMP:20260419T121201
CREATED:20260403T172020Z
LAST-MODIFIED:20260403T172029Z
UID:10000164-1775937600-1775951999@zenwoodsgolfclub.com
SUMMARY:Glow Golf
DESCRIPTION:Join us Masters Weekend for a night of glow golf under the lights at ZenWoods. \n\n\n\nKick things off with a 6PM pre-party\, then get ready for an 8PM shotgun start where the course transforms into a one-of-a-kind nighttime experience. Bright targets\, glowing greens\, and a full atmosphere you won’t find anywhere else. \n\n\n\nFor $55 per player\, your ticket includes: \n\n\n\n• 9 holes of glow golf \n\n\n\n• Two glow balls \n\n\n\n• Full taco bar \n\n\n\nSpots will fill up fast for this one. Grab your group and lock in your tee time before it’s gone.
URL:https://zenwoodsgolfclub.com/event/glow-golf-6/
END:VEVENT
END:VCALENDAR